BEGIN:VCALENDAR
VERSION:2.0
PRODID:-//Pictures London//Cinema Listings//EN
CALSCALE:GREGORIAN
METHOD:PUBLISH
X-WR-CALNAME:Pictures London Cinema
BEGIN:VEVENT
UID:37626f8b-071e-4571-a686-682fe95c5920@pictures.london
DTSTART:20260502T223000Z
DTEND:20260503T003000Z
SUMMARY:Queer Horror Nights: THE ROCKY HORROR PICTURE SHOW with Shadow Cast (1975) at Rio Cinema
DESCRIPTION:Queer Horror Nights: THE ROCKY HORROR PICTURE SHOW with Shadow Cast (1975)\nat Rio Cinema\nBook: https://riocinema.org.uk/Rio.dll/WhatsOn?f=1742916\nvia Pictures (pictures.london)
LOCATION:Rio Cinema\, 107 Kingsland High Street\, Dalston\, E8 2PB
URL:https://riocinema.org.uk/Rio.dll/WhatsOn?f=1742916
STATUS:CONFIRMED
END:VEVENT
END:VCALENDAR