BEGIN:VCALENDAR
VERSION:2.0
PRODID:-//Pictures London//Cinema Listings//EN
CALSCALE:GREGORIAN
METHOD:PUBLISH
X-WR-CALNAME:Pictures London Cinema
BEGIN:VEVENT
UID:37387def-712b-44ac-b312-ead1c640f381@pictures.london
DTSTART:20260501T141500Z
DTEND:20260501T161400Z
SUMMARY:The Devil Wears Prada 2 (2026) at Curzon Bloomsbury
DESCRIPTION:The Devil Wears Prada 2 (2026)\nat Curzon Bloomsbury\nBook: https://www.curzon.com/films/the-devil-wears-prada-2/HO00006909/\nvia Pictures (pictures.london)
LOCATION:Curzon Bloomsbury\, The Brunswick Centre\, Bloomsbury\, WC1H 8AG
URL:https://www.curzon.com/films/the-devil-wears-prada-2/HO00006909/
STATUS:CONFIRMED
END:VEVENT
END:VCALENDAR