BEGIN:VCALENDAR
VERSION:2.0
PRODID:-//Pictures London//Cinema Listings//EN
CALSCALE:GREGORIAN
METHOD:PUBLISH
X-WR-CALNAME:Pictures London Cinema
BEGIN:VEVENT
UID:37057ff8-aace-46bc-a5eb-077cfc8b2346@pictures.london
DTSTART:20260428T100000Z
DTEND:20260428T115100Z
SUMMARY:Mildred Pierce (1945) at Curzon Victoria
DESCRIPTION:Mildred Pierce (1945)\nat Curzon Victoria\nBook: https://www.curzon.com/films/mildred-pierce/HO00006737/\nvia Pictures (pictures.london)
LOCATION:Curzon Victoria\, 58 Victoria Street\, Victoria\, SW1E 5JA
URL:https://www.curzon.com/films/mildred-pierce/HO00006737/
STATUS:CONFIRMED
END:VEVENT
END:VCALENDAR