BEGIN:VCALENDAR
VERSION:2.0
PRODID:-//Pictures London//Cinema Listings//EN
CALSCALE:GREGORIAN
METHOD:PUBLISH
X-WR-CALNAME:Pictures London Cinema
BEGIN:VEVENT
UID:37053549-4675-4a76-9bf5-a9c58e692c8d@pictures.london
DTSTART:20260422T171500Z
DTEND:20260422T192200Z
SUMMARY:Michael (2026) at Everyman Barnet
DESCRIPTION:Michael (2026)\nat Everyman Barnet\nBook: https://purchase.everymancinema.com/launch/ticketing/1bdf2e70-4e5a-5026-a6cd-825380c1701e\nvia Pictures (pictures.london)
LOCATION:Everyman Barnet\, Great North Road\, Barnet\, EN5 5SJ
URL:https://purchase.everymancinema.com/launch/ticketing/1bdf2e70-4e5a-5026-a6cd-825380c1701e
STATUS:CONFIRMED
END:VEVENT
END:VCALENDAR