BEGIN:VCALENDAR
VERSION:2.0
PRODID:-//Pictures London//Cinema Listings//EN
CALSCALE:GREGORIAN
METHOD:PUBLISH
X-WR-CALNAME:Pictures London Cinema
BEGIN:VEVENT
UID:363b4222-f9d3-45de-a2d7-e38d270bf4d5@pictures.london
DTSTART:20260422T160000Z
DTEND:20260422T180700Z
SUMMARY:Michael (2026) at Everyman Maida Vale
DESCRIPTION:Michael (2026)\nat Everyman Maida Vale\nBook: https://purchase.everymancinema.com/launch/ticketing/1e4754ef-ff47-57dc-8a0d-812f114c32e0\nvia Pictures (pictures.london)
LOCATION:Everyman Maida Vale\, 215 Sutherland Avenue\, Maida Vale\, W9 1TT
URL:https://purchase.everymancinema.com/launch/ticketing/1e4754ef-ff47-57dc-8a0d-812f114c32e0
STATUS:CONFIRMED
END:VEVENT
END:VCALENDAR