BEGIN:VCALENDAR
VERSION:2.0
PRODID:-//Pictures London//Cinema Listings//EN
CALSCALE:GREGORIAN
METHOD:PUBLISH
X-WR-CALNAME:Pictures London Cinema
BEGIN:VEVENT
UID:35d23b44-1614-406e-8771-d99f77eb250a@pictures.london
DTSTART:20260428T170000Z
DTEND:20260428T184700Z
SUMMARY:Hokum (2026) at Prince Charles Cinema
DESCRIPTION:Hokum (2026)\nat Prince Charles Cinema\nBook: https://princecharlescinema.com/prince-charles-cinema/booknow/31626253\nvia Pictures (pictures.london)
LOCATION:Prince Charles Cinema\, 7 Leicester Place\, Leicester Square\, WC2H 7BY
URL:https://princecharlescinema.com/prince-charles-cinema/booknow/31626253
STATUS:CONFIRMED
END:VEVENT
END:VCALENDAR