BEGIN:VCALENDAR
VERSION:2.0
PRODID:-//Pictures London//Cinema Listings//EN
CALSCALE:GREGORIAN
METHOD:PUBLISH
X-WR-CALNAME:Pictures London Cinema
BEGIN:VEVENT
UID:34eec557-a27e-46e2-bdbf-46f9a7da8cb2@pictures.london
DTSTART:20260422T182000Z
DTEND:20260422T202700Z
SUMMARY:Michael (2026) at Everyman Crystal Palace
DESCRIPTION:Michael (2026)\nat Everyman Crystal Palace\nBook: https://purchase.everymancinema.com/launch/ticketing/130bc0eb-7873-5278-8fd9-923c74915504\nvia Pictures (pictures.london)
LOCATION:Everyman Crystal Palace\, 25 Church Road\, Crystal Palace\, SE19 2AE
URL:https://purchase.everymancinema.com/launch/ticketing/130bc0eb-7873-5278-8fd9-923c74915504
STATUS:CONFIRMED
END:VEVENT
END:VCALENDAR