BEGIN:VCALENDAR
VERSION:2.0
PRODID:-//Pictures London//Cinema Listings//EN
CALSCALE:GREGORIAN
METHOD:PUBLISH
X-WR-CALNAME:Pictures London Cinema
BEGIN:VEVENT
UID:34d13505-7ee2-411f-8c49-0e4ecba45775@pictures.london
DTSTART:20260421T164500Z
DTEND:20260421T183500Z
SUMMARY:The Magic Faraway Tree (2026) at Everyman Canary Wharf
DESCRIPTION:The Magic Faraway Tree (2026)\nat Everyman Canary Wharf\nBook: https://purchase.everymancinema.com/launch/ticketing/b021d90f-296d-5c73-942e-820dc1081b11\nvia Pictures (pictures.london)
LOCATION:Everyman Canary Wharf\, Crossrail Place\, Canary Wharf\, E14 5NY
URL:https://purchase.everymancinema.com/launch/ticketing/b021d90f-296d-5c73-942e-820dc1081b11
STATUS:CONFIRMED
END:VEVENT
END:VCALENDAR