BEGIN:VCALENDAR
VERSION:2.0
PRODID:-//Pictures London//Cinema Listings//EN
CALSCALE:GREGORIAN
METHOD:PUBLISH
X-WR-CALNAME:Pictures London Cinema
BEGIN:VEVENT
UID:34231ee6-0b7c-4138-b2e7-d52b319e5273@pictures.london
DTSTART:20260421T174500Z
DTEND:20260421T193000Z
SUMMARY:The Drama (2026) at Ealing Picturehouse
DESCRIPTION:The Drama (2026)\nat Ealing Picturehouse\nBook: https://www.picturehouses.com/movie-details/031/HO00017737/the-drama\nvia Pictures (pictures.london)
LOCATION:Ealing Picturehouse\, The Ealing Cinema\, Ealing Green\, Ealing\, W5 2PA
URL:https://www.picturehouses.com/movie-details/031/HO00017737/the-drama
STATUS:CONFIRMED
END:VEVENT
END:VCALENDAR