BEGIN:VCALENDAR
VERSION:2.0
PRODID:-//Pictures London//Cinema Listings//EN
CALSCALE:GREGORIAN
METHOD:PUBLISH
X-WR-CALNAME:Pictures London Cinema
BEGIN:VEVENT
UID:33651e15-aa65-4b8f-8d50-9994598faa27@pictures.london
DTSTART:20260421T161500Z
DTEND:20260421T185200Z
SUMMARY:Project Hail Mary (2026) at Hackney Picturehouse
DESCRIPTION:Project Hail Mary (2026)\nat Hackney Picturehouse\nBook: https://www.picturehouses.com/movie-details/010/HO00017624/project-hail-mary\nvia Pictures (pictures.london)
LOCATION:Hackney Picturehouse\, 270 Mare Street\, Hackney\, E8 1EJ
URL:https://www.picturehouses.com/movie-details/010/HO00017624/project-hail-mary
STATUS:CONFIRMED
END:VEVENT
END:VCALENDAR