BEGIN:VCALENDAR
VERSION:2.0
PRODID:-//Pictures London//Cinema Listings//EN
CALSCALE:GREGORIAN
METHOD:PUBLISH
X-WR-CALNAME:Pictures London Cinema
BEGIN:VEVENT
UID:33451b2f-fcfd-401f-b878-9fe7772175fe@pictures.london
DTSTART:20260425T170000Z
DTEND:20260425T183700Z
SUMMARY:After Hours (1985) at Greenwich Picturehouse
DESCRIPTION:After Hours (1985)\nat Greenwich Picturehouse\nFormat: DCP_4K\nBook: https://www.picturehouses.com/movie-details/021/HO00014433/after-hours-4k-restoration\nvia Pictures (pictures.london)
LOCATION:Greenwich Picturehouse\, 180 Greenwich High Road\, Greenwich\, SE10 9HB
URL:https://www.picturehouses.com/movie-details/021/HO00014433/after-hours-4k-restoration
STATUS:CONFIRMED
END:VEVENT
END:VCALENDAR