BEGIN:VCALENDAR
VERSION:2.0
PRODID:-//Pictures London//Cinema Listings//EN
CALSCALE:GREGORIAN
METHOD:PUBLISH
X-WR-CALNAME:Pictures London Cinema
BEGIN:VEVENT
UID:3291fd87-8ecb-4050-aff2-7a75631925b7@pictures.london
DTSTART:20260422T204000Z
DTEND:20260422T222300Z
SUMMARY:The Truman Show (1998) at BFI Southbank
DESCRIPTION:The Truman Show (1998)\nat BFI Southbank\nBook: https://whatson.bfi.org.uk/Online/default.asp?doWork::WScontent::loadArticle=Load&BOparam::WScontent::loadArticle::article_id=1977343F-5073-467C-99A4-F17A3E230808&BOparam::WScontent::loadArticle::context_id=26468898-619D-4B4B-BEF6-B2C8CC7C0649\nvia Pictures (pictures.london)
LOCATION:BFI Southbank\, Belvedere Road\, South Bank\, SE1 8XT
URL:https://whatson.bfi.org.uk/Online/default.asp?doWork::WScontent::loadArticle=Load&BOparam::WScontent::loadArticle::article_id=1977343F-5073-467C-99A4-F17A3E230808&BOparam::WScontent::loadArticle::context_id=26468898-619D-4B4B-BEF6-B2C8CC7C0649
STATUS:CONFIRMED
END:VEVENT
END:VCALENDAR