BEGIN:VCALENDAR
VERSION:2.0
PRODID:-//Pictures London//Cinema Listings//EN
CALSCALE:GREGORIAN
METHOD:PUBLISH
X-WR-CALNAME:Pictures London Cinema
BEGIN:VEVENT
UID:31ab1809-25cc-4030-8626-109e9b7661b5@pictures.london
DTSTART:20260421T170000Z
DTEND:20260421T185700Z
SUMMARY:The Stranger (2022) at Picturehouse Central
DESCRIPTION:The Stranger (2022)\nat Picturehouse Central\nBook: https://www.picturehouses.com/movie-details/022/HO00017653/the-stranger\nvia Pictures (pictures.london)
LOCATION:Picturehouse Central\, Corner of Great Windmill Street & Shaftesbury Avenue\, West End\, W1D 7DH
URL:https://www.picturehouses.com/movie-details/022/HO00017653/the-stranger
STATUS:CONFIRMED
END:VEVENT
END:VCALENDAR