BEGIN:VCALENDAR
VERSION:2.0
PRODID:-//Pictures London//Cinema Listings//EN
CALSCALE:GREGORIAN
METHOD:PUBLISH
X-WR-CALNAME:Pictures London Cinema
BEGIN:VEVENT
UID:31a64c3c-3770-4e9d-b6ee-605605d66c46@pictures.london
DTSTART:20260421T100000Z
DTEND:20260421T113800Z
SUMMARY:The Super Mario Galaxy Movie (2026) at Curzon Aldgate
DESCRIPTION:The Super Mario Galaxy Movie (2026)\nat Curzon Aldgate\nBook: https://www.curzon.com/films/the-super-mario-galaxy-movie/HO00006890/\nvia Pictures (pictures.london)
LOCATION:Curzon Aldgate\, 2 Whitechapel High Street\, Aldgate\, E1 8FA
URL:https://www.curzon.com/films/the-super-mario-galaxy-movie/HO00006890/
STATUS:CONFIRMED
END:VEVENT
END:VCALENDAR