BEGIN:VCALENDAR
VERSION:2.0
PRODID:-//Pictures London//Cinema Listings//EN
CALSCALE:GREGORIAN
METHOD:PUBLISH
X-WR-CALNAME:Pictures London Cinema
BEGIN:VEVENT
UID:317977e3-e60c-4490-9679-60d3fd27514a@pictures.london
DTSTART:20260422T164000Z
DTEND:20260422T184700Z
SUMMARY:Michael (2026) at Castle Sidcup
DESCRIPTION:Michael (2026)\nat Castle Sidcup\nBook: https://castlesidcup.com/bookings/1642/\nvia Pictures (pictures.london)
LOCATION:Castle Sidcup\, 44 Main Road\, Sidcup\, DA14 6NJ
URL:https://castlesidcup.com/bookings/1642/
STATUS:CONFIRMED
END:VEVENT
END:VCALENDAR