BEGIN:VCALENDAR
VERSION:2.0
PRODID:-//Pictures London//Cinema Listings//EN
CALSCALE:GREGORIAN
METHOD:PUBLISH
X-WR-CALNAME:Pictures London Cinema
BEGIN:VEVENT
UID:316818f9-6d91-4f48-939c-71a7875dbf44@pictures.london
DTSTART:20260423T205000Z
DTEND:20260423T221000Z
SUMMARY:Wendy and Lucy (2008) at BFI Southbank
DESCRIPTION:Wendy and Lucy (2008)\nat BFI Southbank\nBook: https://whatson.bfi.org.uk/Online/default.asp?doWork::WScontent::loadArticle=Load&BOparam::WScontent::loadArticle::article_id=4BB43EE6-A33E-44F3-BDF0-41DC04AB6F58&BOparam::WScontent::loadArticle::context_id=ABD6B134-C5A2-4F05-9807-A5F7CE32230D\nvia Pictures (pictures.london)
LOCATION:BFI Southbank\, Belvedere Road\, South Bank\, SE1 8XT
URL:https://whatson.bfi.org.uk/Online/default.asp?doWork::WScontent::loadArticle=Load&BOparam::WScontent::loadArticle::article_id=4BB43EE6-A33E-44F3-BDF0-41DC04AB6F58&BOparam::WScontent::loadArticle::context_id=ABD6B134-C5A2-4F05-9807-A5F7CE32230D
STATUS:CONFIRMED
END:VEVENT
END:VCALENDAR