BEGIN:VCALENDAR
VERSION:2.0
PRODID:-//Pictures London//Cinema Listings//EN
CALSCALE:GREGORIAN
METHOD:PUBLISH
X-WR-CALNAME:Pictures London Cinema
BEGIN:VEVENT
UID:31676fd6-381c-4d1d-a037-b7df7c14d4cf@pictures.london
DTSTART:20260424T193000Z
DTEND:20260424T213000Z
SUMMARY:Sing-A-Long-A Grease at Prince Charles Cinema
DESCRIPTION:Sing-A-Long-A Grease\nat Prince Charles Cinema\nBook: https://princecharlescinema.com/prince-charles-cinema/booknow/31623980\nvia Pictures (pictures.london)
LOCATION:Prince Charles Cinema\, 7 Leicester Place\, Leicester Square\, WC2H 7BY
URL:https://princecharlescinema.com/prince-charles-cinema/booknow/31623980
STATUS:CONFIRMED
END:VEVENT
END:VCALENDAR