BEGIN:VCALENDAR
VERSION:2.0
PRODID:-//Pictures London//Cinema Listings//EN
CALSCALE:GREGORIAN
METHOD:PUBLISH
X-WR-CALNAME:Pictures London Cinema
BEGIN:VEVENT
UID:309f217f-04dd-4923-aa46-a843593be543@pictures.london
DTSTART:20260426T130000Z
DTEND:20260426T142600Z
SUMMARY:La Parisienne (1957) at Cine Lumiere
DESCRIPTION:La Parisienne (1957)\nat Cine Lumiere\nBook: https://cinelumiere.savoysystems.co.uk/CineLumiere.dll/TSelectItems.waSelectItemsPrompt.TcsWebMenuItem_600.TcsWebTab_601.TcsPerformance_6702423.TcsSection_1928774\nvia Pictures (pictures.london)
LOCATION:Cine Lumiere\, 17 Queensberry Place\, South Kensington\, SW7 2DT
URL:https://cinelumiere.savoysystems.co.uk/CineLumiere.dll/TSelectItems.waSelectItemsPrompt.TcsWebMenuItem_600.TcsWebTab_601.TcsPerformance_6702423.TcsSection_1928774
STATUS:CONFIRMED
END:VEVENT
END:VCALENDAR