BEGIN:VCALENDAR
VERSION:2.0
PRODID:-//Pictures London//Cinema Listings//EN
CALSCALE:GREGORIAN
METHOD:PUBLISH
X-WR-CALNAME:Pictures London Cinema
BEGIN:VEVENT
UID:3065dc14-23fd-4253-b29f-ffed08b2dd10@pictures.london
DTSTART:20260425T143000Z
DTEND:20260425T160200Z
SUMMARY:White Star (1983) at The Nickel
DESCRIPTION:White Star (1983)\nat The Nickel\nFormat: DIGITAL\nBook: https://book.thenickel.co.uk/screening/284\nvia Pictures (pictures.london)
LOCATION:The Nickel\, 194 Upper Street\, Islington\, N1 1RQ
URL:https://book.thenickel.co.uk/screening/284
STATUS:CONFIRMED
END:VEVENT
END:VCALENDAR