BEGIN:VCALENDAR
VERSION:2.0
PRODID:-//Pictures London//Cinema Listings//EN
CALSCALE:GREGORIAN
METHOD:PUBLISH
X-WR-CALNAME:Pictures London Cinema
BEGIN:VEVENT
UID:3059dde3-388b-451a-9b6b-31459aa61737@pictures.london
DTSTART:20260501T160000Z
DTEND:20260501T175900Z
SUMMARY:The Devil Wears Prada 2 (2026) at Everyman Maida Vale
DESCRIPTION:The Devil Wears Prada 2 (2026)\nat Everyman Maida Vale\nBook: https://purchase.everymancinema.com/launch/ticketing/09d4aeb9-9610-51fc-aa12-4ec03e0366b8\nvia Pictures (pictures.london)
LOCATION:Everyman Maida Vale\, 215 Sutherland Avenue\, Maida Vale\, W9 1TT
URL:https://purchase.everymancinema.com/launch/ticketing/09d4aeb9-9610-51fc-aa12-4ec03e0366b8
STATUS:CONFIRMED
END:VEVENT
END:VCALENDAR