BEGIN:VCALENDAR
VERSION:2.0
PRODID:-//Pictures London//Cinema Listings//EN
CALSCALE:GREGORIAN
METHOD:PUBLISH
X-WR-CALNAME:Pictures London Cinema
BEGIN:VEVENT
UID:30012359-a9e3-4d4c-b40b-2e3deb056c2d@pictures.london
DTSTART:20260423T170000Z
DTEND:20260423T190000Z
SUMMARY:COSMIK DEBRIS PRESENTS: THE LAST SEDUCTION (1994) at The Nickel
DESCRIPTION:COSMIK DEBRIS PRESENTS: THE LAST SEDUCTION (1994)\nat The Nickel\nFormat: DIGITAL\nBook: https://book.thenickel.co.uk/screening/307\nvia Pictures (pictures.london)
LOCATION:The Nickel\, 194 Upper Street\, Islington\, N1 1RQ
URL:https://book.thenickel.co.uk/screening/307
STATUS:CONFIRMED
END:VEVENT
END:VCALENDAR