BEGIN:VCALENDAR
VERSION:2.0
PRODID:-//Pictures London//Cinema Listings//EN
CALSCALE:GREGORIAN
METHOD:PUBLISH
X-WR-CALNAME:Pictures London Cinema
BEGIN:VEVENT
UID:2f836f86-ab2a-4e58-8976-84ef5e3a5255@pictures.london
DTSTART:20260421T191500Z
DTEND:20260421T205500Z
SUMMARY:The Christophers (2026) at Picturehouse Central
DESCRIPTION:The Christophers (2026)\nat Picturehouse Central\nEvent: preview\nBook: https://www.picturehouses.com/movie-details/022/HO00017824/the-christophers-q-a-uk-premiere\nvia Pictures (pictures.london)
LOCATION:Picturehouse Central\, Corner of Great Windmill Street & Shaftesbury Avenue\, West End\, W1D 7DH
URL:https://www.picturehouses.com/movie-details/022/HO00017824/the-christophers-q-a-uk-premiere
STATUS:CONFIRMED
END:VEVENT
END:VCALENDAR