BEGIN:VCALENDAR
VERSION:2.0
PRODID:-//Pictures London//Cinema Listings//EN
CALSCALE:GREGORIAN
METHOD:PUBLISH
X-WR-CALNAME:Pictures London Cinema
BEGIN:VEVENT
UID:2f7edad6-70d8-44a1-883d-823c0e13ec68@pictures.london
DTSTART:20260425T094000Z
DTEND:20260425T104600Z
SUMMARY:Bluey at the Cinema: Playdates with Friends (2026) at Curzon Kingston
DESCRIPTION:Bluey at the Cinema: Playdates with Friends (2026)\nat Curzon Kingston\nBook: https://www.curzon.com/films/kids-club-bluey-playdates-with-friends/HO00006928/\nvia Pictures (pictures.london)
LOCATION:Curzon Kingston\, Richmond Road\, Kingston\, KT2 5BW
URL:https://www.curzon.com/films/kids-club-bluey-playdates-with-friends/HO00006928/
STATUS:CONFIRMED
END:VEVENT
END:VCALENDAR