BEGIN:VCALENDAR
VERSION:2.0
PRODID:-//Pictures London//Cinema Listings//EN
CALSCALE:GREGORIAN
METHOD:PUBLISH
X-WR-CALNAME:Pictures London Cinema
BEGIN:VEVENT
UID:2f53c55e-2dd7-4ba9-baa9-04a977bdbaef@pictures.london
DTSTART:20260421T210000Z
DTEND:20260421T231400Z
SUMMARY:Lee Cronin's The Mummy (2026) at Everyman Barnet
DESCRIPTION:Lee Cronin's The Mummy (2026)\nat Everyman Barnet\nBook: https://purchase.everymancinema.com/launch/ticketing/509cee66-c16f-50d1-9029-38e1298705f0\nvia Pictures (pictures.london)
LOCATION:Everyman Barnet\, Great North Road\, Barnet\, EN5 5SJ
URL:https://purchase.everymancinema.com/launch/ticketing/509cee66-c16f-50d1-9029-38e1298705f0
STATUS:CONFIRMED
END:VEVENT
END:VCALENDAR