BEGIN:VCALENDAR
VERSION:2.0
PRODID:-//Pictures London//Cinema Listings//EN
CALSCALE:GREGORIAN
METHOD:PUBLISH
X-WR-CALNAME:Pictures London Cinema
BEGIN:VEVENT
UID:2f3e5143-c049-4833-b57c-d6f156de7d2d@pictures.london
DTSTART:20260501T163000Z
DTEND:20260501T182900Z
SUMMARY:The Devil Wears Prada 2 (2026) at Screen on the Green
DESCRIPTION:The Devil Wears Prada 2 (2026)\nat Screen on the Green\nBook: https://purchase.everymancinema.com/launch/ticketing/ec522144-9266-59bc-8dcc-299b9a94393b\nvia Pictures (pictures.london)
LOCATION:Screen on the Green\, 83 Upper Street\, Islington\, N1 0PH
URL:https://purchase.everymancinema.com/launch/ticketing/ec522144-9266-59bc-8dcc-299b9a94393b
STATUS:CONFIRMED
END:VEVENT
END:VCALENDAR