BEGIN:VCALENDAR
VERSION:2.0
PRODID:-//Pictures London//Cinema Listings//EN
CALSCALE:GREGORIAN
METHOD:PUBLISH
X-WR-CALNAME:Pictures London Cinema
BEGIN:VEVENT
UID:2f2c5a66-e54b-4372-a8a3-2611951d150e@pictures.london
DTSTART:20260428T172000Z
DTEND:20260428T184300Z
SUMMARY:The Gas Station Attendant (2025) at Curzon Bloomsbury
DESCRIPTION:The Gas Station Attendant (2025)\nat Curzon Bloomsbury\nBook: https://www.curzon.com/films/dochouse-the-gas-station-attendant/HO00006983/\nvia Pictures (pictures.london)
LOCATION:Curzon Bloomsbury\, The Brunswick Centre\, Bloomsbury\, WC1H 8AG
URL:https://www.curzon.com/films/dochouse-the-gas-station-attendant/HO00006983/
STATUS:CONFIRMED
END:VEVENT
END:VCALENDAR