BEGIN:VCALENDAR
VERSION:2.0
PRODID:-//Pictures London//Cinema Listings//EN
CALSCALE:GREGORIAN
METHOD:PUBLISH
X-WR-CALNAME:Pictures London Cinema
BEGIN:VEVENT
UID:2f0696dd-a40d-4d1b-b052-3e401c861e04@pictures.london
DTSTART:20260422T142000Z
DTEND:20260422T161500Z
SUMMARY:Sirāt (2025) at Picturehouse Central
DESCRIPTION:Sirāt (2025)\nat Picturehouse Central\nBook: https://www.picturehouses.com/movie-details/022/HO00017082/sir-t\nvia Pictures (pictures.london)
LOCATION:Picturehouse Central\, Corner of Great Windmill Street & Shaftesbury Avenue\, West End\, W1D 7DH
URL:https://www.picturehouses.com/movie-details/022/HO00017082/sir-t
STATUS:CONFIRMED
END:VEVENT
END:VCALENDAR