BEGIN:VCALENDAR
VERSION:2.0
PRODID:-//Pictures London//Cinema Listings//EN
CALSCALE:GREGORIAN
METHOD:PUBLISH
X-WR-CALNAME:Pictures London Cinema
BEGIN:VEVENT
UID:2eed54f4-009b-431e-8535-020dc8503b93@pictures.london
DTSTART:20260421T200000Z
DTEND:20260421T215400Z
SUMMARY:Rose of Nevada (2026) at Ealing Picturehouse
DESCRIPTION:Rose of Nevada (2026)\nat Ealing Picturehouse\nEvent: preview\nBook: https://www.picturehouses.com/movie-details/031/HO00017705/rose-of-nevada\nvia Pictures (pictures.london)
LOCATION:Ealing Picturehouse\, The Ealing Cinema\, Ealing Green\, Ealing\, W5 2PA
URL:https://www.picturehouses.com/movie-details/031/HO00017705/rose-of-nevada
STATUS:CONFIRMED
END:VEVENT
END:VCALENDAR