BEGIN:VCALENDAR
VERSION:2.0
PRODID:-//Pictures London//Cinema Listings//EN
CALSCALE:GREGORIAN
METHOD:PUBLISH
X-WR-CALNAME:Pictures London Cinema
BEGIN:VEVENT
UID:2ec8cea4-30cd-44c1-932b-9899d56de502@pictures.london
DTSTART:20260421T161500Z
DTEND:20260421T182900Z
SUMMARY:Lee Cronin's The Mummy (2026) at Crouch End Picturehouse
DESCRIPTION:Lee Cronin's The Mummy (2026)\nat Crouch End Picturehouse\nBook: https://www.picturehouses.com/movie-details/024/HO00017903/lee-cronin-s-the-mummy\nvia Pictures (pictures.london)
LOCATION:Crouch End Picturehouse\, 165 Tottenham Lane\, Crouch End\, N8 8HP
URL:https://www.picturehouses.com/movie-details/024/HO00017903/lee-cronin-s-the-mummy
STATUS:CONFIRMED
END:VEVENT
END:VCALENDAR