BEGIN:VCALENDAR
VERSION:2.0
PRODID:-//Pictures London//Cinema Listings//EN
CALSCALE:GREGORIAN
METHOD:PUBLISH
X-WR-CALNAME:Pictures London Cinema
BEGIN:VEVENT
UID:2e40f196-7a5a-4575-922d-0dcf33d08c2b@pictures.london
DTSTART:20260422T133000Z
DTEND:20260422T153700Z
SUMMARY:Michael (2026) at Crouch End Picturehouse
DESCRIPTION:Michael (2026)\nat Crouch End Picturehouse\nBook: https://www.picturehouses.com/movie-details/024/HO00017772/michael\nvia Pictures (pictures.london)
LOCATION:Crouch End Picturehouse\, 165 Tottenham Lane\, Crouch End\, N8 8HP
URL:https://www.picturehouses.com/movie-details/024/HO00017772/michael
STATUS:CONFIRMED
END:VEVENT
END:VCALENDAR