BEGIN:VCALENDAR
VERSION:2.0
PRODID:-//Pictures London//Cinema Listings//EN
CALSCALE:GREGORIAN
METHOD:PUBLISH
X-WR-CALNAME:Pictures London Cinema
BEGIN:VEVENT
UID:2da2938f-4c5a-4077-ac89-043c1e2a306b@pictures.london
DTSTART:20260422T115000Z
DTEND:20260422T134800Z
SUMMARY:Two Prosecutors (2025) at Curzon Bloomsbury
DESCRIPTION:Two Prosecutors (2025)\nat Curzon Bloomsbury\nBook: https://www.curzon.com/films/two-prosecutors/HO00006788/\nvia Pictures (pictures.london)
LOCATION:Curzon Bloomsbury\, The Brunswick Centre\, Bloomsbury\, WC1H 8AG
URL:https://www.curzon.com/films/two-prosecutors/HO00006788/
STATUS:CONFIRMED
END:VEVENT
END:VCALENDAR