BEGIN:VCALENDAR
VERSION:2.0
PRODID:-//Pictures London//Cinema Listings//EN
CALSCALE:GREGORIAN
METHOD:PUBLISH
X-WR-CALNAME:Pictures London Cinema
BEGIN:VEVENT
UID:2d818456-195b-470c-b543-a2a1c5b4b679@pictures.london
DTSTART:20260421T133000Z
DTEND:20260421T151700Z
SUMMARY:California Schemin' (2026) at Everyman Crystal Palace
DESCRIPTION:California Schemin' (2026)\nat Everyman Crystal Palace\nBook: https://purchase.everymancinema.com/launch/ticketing/06f86adf-8262-519a-b9ab-67619493e948\nvia Pictures (pictures.london)
LOCATION:Everyman Crystal Palace\, 25 Church Road\, Crystal Palace\, SE19 2AE
URL:https://purchase.everymancinema.com/launch/ticketing/06f86adf-8262-519a-b9ab-67619493e948
STATUS:CONFIRMED
END:VEVENT
END:VCALENDAR