BEGIN:VCALENDAR
VERSION:2.0
PRODID:-//Pictures London//Cinema Listings//EN
CALSCALE:GREGORIAN
METHOD:PUBLISH
X-WR-CALNAME:Pictures London Cinema
BEGIN:VEVENT
UID:2cce0f0b-b1dc-458c-8c3e-bdf41d8f61b8@pictures.london
DTSTART:20260422T183000Z
DTEND:20260422T201500Z
SUMMARY:Dead Man's Wire (2026) at Olympic Studios
DESCRIPTION:Dead Man's Wire (2026)\nat Olympic Studios\nBook: https://web1.empire.mycloudcinema.com/#/book/54849\nvia Pictures (pictures.london)
LOCATION:Olympic Studios\, 117-123 Church Road\, Barnes\, SW13 9HL
URL:https://web1.empire.mycloudcinema.com/#/book/54849
STATUS:CONFIRMED
END:VEVENT
END:VCALENDAR