BEGIN:VCALENDAR
VERSION:2.0
PRODID:-//Pictures London//Cinema Listings//EN
CALSCALE:GREGORIAN
METHOD:PUBLISH
X-WR-CALNAME:Pictures London Cinema
BEGIN:VEVENT
UID:2caa3354-fb21-42df-8dc4-d0879925b770@pictures.london
DTSTART:20260422T134500Z
DTEND:20260422T152300Z
SUMMARY:Everybody to Kenmure Street (2026) at Garden Cinema
DESCRIPTION:Everybody to Kenmure Street (2026)\nat Garden Cinema\nBook: https://bookings.thegardencinema.co.uk/TheGardenCinema.dll/TSelectItems.waSelectItemsPrompt.TcsWebMenuItem_0.TcsWebTab_0.TcsPerformance_5409916.TcsSection_3060731\nvia Pictures (pictures.london)
LOCATION:Garden Cinema\, 39-41 Parker Street\, Covent Garden\, WC2B 5PQ
URL:https://bookings.thegardencinema.co.uk/TheGardenCinema.dll/TSelectItems.waSelectItemsPrompt.TcsWebMenuItem_0.TcsWebTab_0.TcsPerformance_5409916.TcsSection_3060731
STATUS:CONFIRMED
END:VEVENT
END:VCALENDAR