BEGIN:VCALENDAR
VERSION:2.0
PRODID:-//Pictures London//Cinema Listings//EN
CALSCALE:GREGORIAN
METHOD:PUBLISH
X-WR-CALNAME:Pictures London Cinema
BEGIN:VEVENT
UID:2c84c4bb-593b-491c-8e35-44bfc364fa23@pictures.london
DTSTART:20260426T170000Z
DTEND:20260426T183900Z
SUMMARY:In the Mood for Love (2000) at Prince Charles Cinema
DESCRIPTION:In the Mood for Love (2000)\nat Prince Charles Cinema\nFormat: 35MM\nBook: https://princecharlescinema.com/prince-charles-cinema/booknow/31625626\nvia Pictures (pictures.london)
LOCATION:Prince Charles Cinema\, 7 Leicester Place\, Leicester Square\, WC2H 7BY
URL:https://princecharlescinema.com/prince-charles-cinema/booknow/31625626
STATUS:CONFIRMED
END:VEVENT
END:VCALENDAR