BEGIN:VCALENDAR
VERSION:2.0
PRODID:-//Pictures London//Cinema Listings//EN
CALSCALE:GREGORIAN
METHOD:PUBLISH
X-WR-CALNAME:Pictures London Cinema
BEGIN:VEVENT
UID:2c4e0c67-c65f-4c8f-bdca-de78b063ca8c@pictures.london
DTSTART:20260421T163000Z
DTEND:20260421T181500Z
SUMMARY:The Drama (2026) at Everyman Maida Vale
DESCRIPTION:The Drama (2026)\nat Everyman Maida Vale\nBook: https://purchase.everymancinema.com/launch/ticketing/91007304-a84b-5021-9665-28625907e422\nvia Pictures (pictures.london)
LOCATION:Everyman Maida Vale\, 215 Sutherland Avenue\, Maida Vale\, W9 1TT
URL:https://purchase.everymancinema.com/launch/ticketing/91007304-a84b-5021-9665-28625907e422
STATUS:CONFIRMED
END:VEVENT
END:VCALENDAR