BEGIN:VCALENDAR
VERSION:2.0
PRODID:-//Pictures London//Cinema Listings//EN
CALSCALE:GREGORIAN
METHOD:PUBLISH
X-WR-CALNAME:Pictures London Cinema
BEGIN:VEVENT
UID:2c2a9c69-144a-49bb-9628-60f6e618e2eb@pictures.london
DTSTART:20260421T180000Z
DTEND:20260421T204100Z
SUMMARY:The Secret Agent (2025) at The David Lean Cinema
DESCRIPTION:The Secret Agent (2025)\nat The David Lean Cinema\nBook: https://tinyurl.com/3cnfd9sa\nvia Pictures (pictures.london)
LOCATION:The David Lean Cinema\, Croydon Clocktower\, Croydon\, CR9 1ET
URL:https://tinyurl.com/3cnfd9sa
STATUS:CONFIRMED
END:VEVENT
END:VCALENDAR