BEGIN:VCALENDAR
VERSION:2.0
PRODID:-//Pictures London//Cinema Listings//EN
CALSCALE:GREGORIAN
METHOD:PUBLISH
X-WR-CALNAME:Pictures London Cinema
BEGIN:VEVENT
UID:2c289daa-5f0e-45c4-bfc3-56dcc3f4d374@pictures.london
DTSTART:20260422T161500Z
DTEND:20260422T182200Z
SUMMARY:Michael (2026) at Everyman Stratford International
DESCRIPTION:Michael (2026)\nat Everyman Stratford International\nBook: https://purchase.everymancinema.com/launch/ticketing/af42d78d-2d7f-57c3-9fc9-61fec748cc81\nvia Pictures (pictures.london)
LOCATION:Everyman Stratford International\, International Way\, Stratford\, E20 1GL
URL:https://purchase.everymancinema.com/launch/ticketing/af42d78d-2d7f-57c3-9fc9-61fec748cc81
STATUS:CONFIRMED
END:VEVENT
END:VCALENDAR