BEGIN:VCALENDAR
VERSION:2.0
PRODID:-//Pictures London//Cinema Listings//EN
CALSCALE:GREGORIAN
METHOD:PUBLISH
X-WR-CALNAME:Pictures London Cinema
BEGIN:VEVENT
UID:2beeb656-4924-45fe-8520-1ccd17472152@pictures.london
DTSTART:20260421T161000Z
DTEND:20260421T174600Z
SUMMARY:Rebuilding (2025) at East Dulwich Picturehouse
DESCRIPTION:Rebuilding (2025)\nat East Dulwich Picturehouse\nBook: https://www.picturehouses.com/movie-details/009/HO00017446/rebuilding\nvia Pictures (pictures.london)
LOCATION:East Dulwich Picturehouse\, Lordship Lane\, East Dulwich\, SE22 8EW
URL:https://www.picturehouses.com/movie-details/009/HO00017446/rebuilding
STATUS:CONFIRMED
END:VEVENT
END:VCALENDAR