BEGIN:VCALENDAR
VERSION:2.0
PRODID:-//Pictures London//Cinema Listings//EN
CALSCALE:GREGORIAN
METHOD:PUBLISH
X-WR-CALNAME:Pictures London Cinema
BEGIN:VEVENT
UID:2be2a6be-c4af-4769-bc6a-624a0e5f9684@pictures.london
DTSTART:20260421T191500Z
DTEND:20260421T215200Z
SUMMARY:Project Hail Mary (2026) at Everyman Maida Vale
DESCRIPTION:Project Hail Mary (2026)\nat Everyman Maida Vale\nBook: https://purchase.everymancinema.com/launch/ticketing/437b5767-38ac-5178-ae9b-8df3994c9328\nvia Pictures (pictures.london)
LOCATION:Everyman Maida Vale\, 215 Sutherland Avenue\, Maida Vale\, W9 1TT
URL:https://purchase.everymancinema.com/launch/ticketing/437b5767-38ac-5178-ae9b-8df3994c9328
STATUS:CONFIRMED
END:VEVENT
END:VCALENDAR