BEGIN:VCALENDAR
VERSION:2.0
PRODID:-//Pictures London//Cinema Listings//EN
CALSCALE:GREGORIAN
METHOD:PUBLISH
X-WR-CALNAME:Pictures London Cinema
BEGIN:VEVENT
UID:2bb66aaf-77a0-4ea5-b6f0-e737b0161daf@pictures.london
DTSTART:20260421T090000Z
DTEND:20260421T110400Z
SUMMARY:Akira (1988) at Everyman Canary Wharf
DESCRIPTION:Akira (1988)\nat Everyman Canary Wharf\nFormat: DCP_4K\nBook: https://purchase.everymancinema.com/launch/ticketing/699adfb5-72b9-54c5-8e5d-908a46f8ca8b\nvia Pictures (pictures.london)
LOCATION:Everyman Canary Wharf\, Crossrail Place\, Canary Wharf\, E14 5NY
URL:https://purchase.everymancinema.com/launch/ticketing/699adfb5-72b9-54c5-8e5d-908a46f8ca8b
STATUS:CONFIRMED
END:VEVENT
END:VCALENDAR