BEGIN:VCALENDAR
VERSION:2.0
PRODID:-//Pictures London//Cinema Listings//EN
CALSCALE:GREGORIAN
METHOD:PUBLISH
X-WR-CALNAME:Pictures London Cinema
BEGIN:VEVENT
UID:2b494d15-b39c-4127-95df-c3e1435e803a@pictures.london
DTSTART:20260427T204500Z
DTEND:20260427T220800Z
SUMMARY:Invincible (2021) at The Lexi Cinema
DESCRIPTION:Invincible (2021)\nat The Lexi Cinema\nBook: https://www.eventbrite.com/e/lvff-2026-invincible-screening-tickets-1985990781890\nvia Pictures (pictures.london)
LOCATION:The Lexi Cinema\, 194B Chamberlayne Road\, Kensal Rise\, NW10 3JU
URL:https://www.eventbrite.com/e/lvff-2026-invincible-screening-tickets-1985990781890
STATUS:CONFIRMED
END:VEVENT
END:VCALENDAR