BEGIN:VCALENDAR
VERSION:2.0
PRODID:-//Pictures London//Cinema Listings//EN
CALSCALE:GREGORIAN
METHOD:PUBLISH
X-WR-CALNAME:Pictures London Cinema
BEGIN:VEVENT
UID:2b1d232d-7786-45ab-b368-fdf429d90947@pictures.london
DTSTART:20260421T100000Z
DTEND:20260421T113800Z
SUMMARY:The Super Mario Galaxy Movie (2026) at Everyman Stratford International
DESCRIPTION:The Super Mario Galaxy Movie (2026)\nat Everyman Stratford International\nBook: https://purchase.everymancinema.com/launch/ticketing/80f3f693-b459-56eb-bd7d-13694170c67c\nvia Pictures (pictures.london)
LOCATION:Everyman Stratford International\, International Way\, Stratford\, E20 1GL
URL:https://purchase.everymancinema.com/launch/ticketing/80f3f693-b459-56eb-bd7d-13694170c67c
STATUS:CONFIRMED
END:VEVENT
END:VCALENDAR