BEGIN:VCALENDAR
VERSION:2.0
PRODID:-//Pictures London//Cinema Listings//EN
CALSCALE:GREGORIAN
METHOD:PUBLISH
X-WR-CALNAME:Pictures London Cinema
BEGIN:VEVENT
UID:2a7cd4e6-393a-40e5-a0c2-9620f4836b4a@pictures.london
DTSTART:20260421T193000Z
DTEND:20260421T220700Z
SUMMARY:Project Hail Mary (2026) at Everyman Canary Wharf
DESCRIPTION:Project Hail Mary (2026)\nat Everyman Canary Wharf\nBook: https://purchase.everymancinema.com/launch/ticketing/f2678eda-9e18-556f-9740-4c9a11936e82\nvia Pictures (pictures.london)
LOCATION:Everyman Canary Wharf\, Crossrail Place\, Canary Wharf\, E14 5NY
URL:https://purchase.everymancinema.com/launch/ticketing/f2678eda-9e18-556f-9740-4c9a11936e82
STATUS:CONFIRMED
END:VEVENT
END:VCALENDAR