BEGIN:VCALENDAR
VERSION:2.0
PRODID:-//Pictures London//Cinema Listings//EN
CALSCALE:GREGORIAN
METHOD:PUBLISH
X-WR-CALNAME:Pictures London Cinema
BEGIN:VEVENT
UID:2a651721-4183-45fd-9bb8-2980190ce447@pictures.london
DTSTART:20260425T170000Z
DTEND:20260425T190000Z
SUMMARY:Chronic Youth Film Festival: Go Fish + ... at Barbican Cinema
DESCRIPTION:Chronic Youth Film Festival: Go Fish + ...\nat Barbican Cinema\nBook: https://tickets.barbican.org.uk/choose-seats/3393601\nvia Pictures (pictures.london)
LOCATION:Barbican Cinema\, Silk Street\, Barbican\, EC2Y 8DS
URL:https://tickets.barbican.org.uk/choose-seats/3393601
STATUS:CONFIRMED
END:VEVENT
END:VCALENDAR