BEGIN:VCALENDAR
VERSION:2.0
PRODID:-//Pictures London//Cinema Listings//EN
CALSCALE:GREGORIAN
METHOD:PUBLISH
X-WR-CALNAME:Pictures London Cinema
BEGIN:VEVENT
UID:2a47904f-bf1b-4571-a35e-2bc75f9bce4e@pictures.london
DTSTART:20260427T130000Z
DTEND:20260427T160800Z
SUMMARY:Barry Lyndon (1975) at Prince Charles Cinema
DESCRIPTION:Barry Lyndon (1975)\nat Prince Charles Cinema\nFormat: 35MM\nBook: https://princecharlescinema.com/prince-charles-cinema/booknow/31625628\nvia Pictures (pictures.london)
LOCATION:Prince Charles Cinema\, 7 Leicester Place\, Leicester Square\, WC2H 7BY
URL:https://princecharlescinema.com/prince-charles-cinema/booknow/31625628
STATUS:CONFIRMED
END:VEVENT
END:VCALENDAR