BEGIN:VCALENDAR
VERSION:2.0
PRODID:-//Pictures London//Cinema Listings//EN
CALSCALE:GREGORIAN
METHOD:PUBLISH
X-WR-CALNAME:Pictures London Cinema
BEGIN:VEVENT
UID:2a0a8fb7-3ae8-428c-9dfe-c426992d2ca4@pictures.london
DTSTART:20260421T182500Z
DTEND:20260421T195100Z
SUMMARY:The Blue Trail (2025) at BFI Southbank
DESCRIPTION:The Blue Trail (2025)\nat BFI Southbank\nFormat: DIGITAL 4K\nBook: https://whatson.bfi.org.uk/Online/default.asp?doWork::WScontent::search=1&BOparam::WScontent::search::article_search_id=25E7EA2E-291F-44F9-8EBC-E560154FDAEB&BOset::WScontent::SearchCriteria::search_criteria=The%20Blue%20Trail\nvia Pictures (pictures.london)
LOCATION:BFI Southbank\, Belvedere Road\, South Bank\, SE1 8XT
URL:https://whatson.bfi.org.uk/Online/default.asp?doWork::WScontent::search=1&BOparam::WScontent::search::article_search_id=25E7EA2E-291F-44F9-8EBC-E560154FDAEB&BOset::WScontent::SearchCriteria::search_criteria=The%20Blue%20Trail
STATUS:CONFIRMED
END:VEVENT
END:VCALENDAR