BEGIN:VCALENDAR
VERSION:2.0
PRODID:-//Pictures London//Cinema Listings//EN
CALSCALE:GREGORIAN
METHOD:PUBLISH
X-WR-CALNAME:Pictures London Cinema
BEGIN:VEVENT
UID:2a0a5f1a-5756-4cbd-95a2-8e9d4cd1fcdc@pictures.london
DTSTART:20260426T181000Z
DTEND:20260426T202300Z
SUMMARY:The Way Back (2010) at BFI Southbank
DESCRIPTION:The Way Back (2010)\nat BFI Southbank\nBook: https://whatson.bfi.org.uk/Online/default.asp?doWork::WScontent::loadArticle=Load&BOparam::WScontent::loadArticle::article_id=5698308F-8F78-44D6-8794-FE1E1549E9BB&BOparam::WScontent::loadArticle::context_id=1BF0777B-7CD6-4E1B-9199-700B53D4F1EA\nvia Pictures (pictures.london)
LOCATION:BFI Southbank\, Belvedere Road\, South Bank\, SE1 8XT
URL:https://whatson.bfi.org.uk/Online/default.asp?doWork::WScontent::loadArticle=Load&BOparam::WScontent::loadArticle::article_id=5698308F-8F78-44D6-8794-FE1E1549E9BB&BOparam::WScontent::loadArticle::context_id=1BF0777B-7CD6-4E1B-9199-700B53D4F1EA
STATUS:CONFIRMED
END:VEVENT
END:VCALENDAR