BEGIN:VCALENDAR
VERSION:2.0
PRODID:-//Pictures London//Cinema Listings//EN
CALSCALE:GREGORIAN
METHOD:PUBLISH
X-WR-CALNAME:Pictures London Cinema
BEGIN:VEVENT
UID:29fbf7db-4fe8-4e46-9ef0-4a92cf9b81c5@pictures.london
DTSTART:20260427T191000Z
DTEND:20260427T214800Z
SUMMARY:TÁR (2022) at Prince Charles Cinema
DESCRIPTION:TÁR (2022)\nat Prince Charles Cinema\nBook: https://princecharlescinema.com/prince-charles-cinema/booknow/31625627\nvia Pictures (pictures.london)
LOCATION:Prince Charles Cinema\, 7 Leicester Place\, Leicester Square\, WC2H 7BY
URL:https://princecharlescinema.com/prince-charles-cinema/booknow/31625627
STATUS:CONFIRMED
END:VEVENT
END:VCALENDAR