BEGIN:VCALENDAR
VERSION:2.0
PRODID:-//Pictures London//Cinema Listings//EN
CALSCALE:GREGORIAN
METHOD:PUBLISH
X-WR-CALNAME:Pictures London Cinema
BEGIN:VEVENT
UID:29e529c8-17bd-4e7f-bd8b-ac1f03cf8511@pictures.london
DTSTART:20260424T133000Z
DTEND:20260424T152200Z
SUMMARY:Mother Mary (2026) at Castle Cinema
DESCRIPTION:Mother Mary (2026)\nat Castle Cinema\nBook: https://thecastlecinema.com/bookings/16475/\nvia Pictures (pictures.london)
LOCATION:Castle Cinema\, 64-66 Brooksby's Walk\, Hackney\, E9 6DA
URL:https://thecastlecinema.com/bookings/16475/
STATUS:CONFIRMED
END:VEVENT
END:VCALENDAR